BEGIN:VCALENDAR
VERSION:2.0
PRODID:-//Positive Discipline Inland Northwest - ECPv6.15.1.1//NONSGML v1.0//EN
CALSCALE:GREGORIAN
METHOD:PUBLISH
X-ORIGINAL-URL:https://pdinlandnw.org
X-WR-CALDESC:Events for Positive Discipline Inland Northwest
REFRESH-INTERVAL;VALUE=DURATION:PT1H
X-Robots-Tag:noindex
X-PUBLISHED-TTL:PT1H
BEGIN:VTIMEZONE
TZID:America/Los_Angeles
BEGIN:DAYLIGHT
TZOFFSETFROM:-0800
TZOFFSETTO:-0700
TZNAME:PDT
DTSTART:20210314T100000
END:DAYLIGHT
BEGIN:STANDARD
TZOFFSETFROM:-0700
TZOFFSETTO:-0800
TZNAME:PST
DTSTART:20211107T090000
END:STANDARD
BEGIN:DAYLIGHT
TZOFFSETFROM:-0800
TZOFFSETTO:-0700
TZNAME:PDT
DTSTART:20220313T100000
END:DAYLIGHT
BEGIN:STANDARD
TZOFFSETFROM:-0700
TZOFFSETTO:-0800
TZNAME:PST
DTSTART:20221106T090000
END:STANDARD
BEGIN:DAYLIGHT
TZOFFSETFROM:-0800
TZOFFSETTO:-0700
TZNAME:PDT
DTSTART:20230312T100000
END:DAYLIGHT
BEGIN:STANDARD
TZOFFSETFROM:-0700
TZOFFSETTO:-0800
TZNAME:PST
DTSTART:20231105T090000
END:STANDARD
BEGIN:DAYLIGHT
TZOFFSETFROM:-0800
TZOFFSETTO:-0700
TZNAME:PDT
DTSTART:20240310T100000
END:DAYLIGHT
BEGIN:STANDARD
TZOFFSETFROM:-0700
TZOFFSETTO:-0800
TZNAME:PST
DTSTART:20241103T090000
END:STANDARD
END:VTIMEZONE
BEGIN:VEVENT
DTSTART;TZID=America/Los_Angeles:20240604T180000
DTEND;TZID=America/Los_Angeles:20240604T193000
DTSTAMP:20260423T080537
CREATED:20240320T192354Z
LAST-MODIFIED:20240320T192354Z
UID:3205-1717524000-1717529400@pdinlandnw.org
SUMMARY:Parenting with Mental Health in Mind- Continued
DESCRIPTION:Learn approaches that use brain science and social emotional learning to tackle mental health challenges.\n\n\nNo prior attendance required for this sessionIdeal for parents\, teachers and caregivers of children aged toddler to teen. We use brain science and social emotional learning to tackle mental health challenges. Our approach emphasizes simple\, mutually respectful tolls that adults can use immediately to strike an important balance between being both Kind and Firm at the same time.
URL:https://pdinlandnw.org/classes/parenting-with-mental-health-in-mind-continued/
LOCATION:Spokane Valley Library\, 22 North Herald Road\, Spokane Valley\, WA 99206\, Spokane Valley\, WA\, 99206\, US
ATTACH;FMTTYPE=image/jpeg:https://pdinlandnw.org/wp-content/uploads/2024/03/3205_image.jpg
END:VEVENT
BEGIN:VEVENT
DTSTART;TZID=America/Los_Angeles:20240418T180000
DTEND;TZID=America/Los_Angeles:20240418T193000
DTSTAMP:20260423T080537
CREATED:20240320T192615Z
LAST-MODIFIED:20240320T192615Z
UID:3210-1713463200-1713468600@pdinlandnw.org
SUMMARY:Parenting with Mental Health in Mind- Continued
DESCRIPTION:Learn approaches that use brain science and social emotional learning to tackle mental health challenges.\n\n\nNo prior attendance required for this sessionIdeal for parents\, teachers and caregivers of children aged toddler to teen. We use brain science and social emotional learning to tackle mental health challenges. Our approach emphasizes simple\, mutually respectful tolls that adults can use immediately to strike an important balance between being both Kind and Firm at the same time.
URL:https://pdinlandnw.org/classes/parenting-with-mental-health-in-mind-continued-2/
LOCATION:Spokane Valley Library\, 22 North Herald Road\, Spokane Valley\, WA 99206\, Spokane Valley\, WA\, 99206\, US
ATTACH;FMTTYPE=image/jpeg:https://pdinlandnw.org/wp-content/uploads/2024/01/3114_image.jpg
END:VEVENT
BEGIN:VEVENT
DTSTART;TZID=America/Los_Angeles:20240320T180000
DTEND;TZID=America/Los_Angeles:20240320T193000
DTSTAMP:20260423T080537
CREATED:20240201T183106Z
LAST-MODIFIED:20240201T183106Z
UID:3150-1710957600-1710963000@pdinlandnw.org
SUMMARY:Parenting with Mental Health in Mind
DESCRIPTION:Learn approaches that use brain science and social emotional learning to tackle mental health challenges.\n\n\nThis FREE event is ideal for parents\, teachers and caregivers of children aged toddler to teen. We use brain science and social emotional learning to tackle mental health challenges. Our approach emphasizes simple\, mutually respectful tolls that adults can use immediately to strike an important balance between being both Kind and Firm at the same time.
URL:https://pdinlandnw.org/classes/parenting-with-mental-health-in-mind/
LOCATION:Spokane Valley Library\, 22 North Herald Road\, Spokane Valley\, WA 99206\, Spokane Valley\, WA\, 99206\, US
ATTACH;FMTTYPE=image/jpeg:https://pdinlandnw.org/wp-content/uploads/2024/01/3107_image-1.jpg
END:VEVENT
BEGIN:VEVENT
DTSTART;TZID=America/Los_Angeles:20240221T180000
DTEND;TZID=America/Los_Angeles:20240221T193000
DTSTAMP:20260423T080537
CREATED:20240201T183036Z
LAST-MODIFIED:20240201T183036Z
UID:3147-1708538400-1708543800@pdinlandnw.org
SUMMARY:Introduction to Positive Discipline
DESCRIPTION:Come and learn tools that you can start using immediately for a more cooperative\, respectful and joyful relationships with children.\n\n\nThis class is designed for parents\, teachers\, and caregivers of children aged from toddlers to teens. We use the latest insights from brain science and social emotional learning to address everyday challenges that arise in caring for children. Our approach emphasizes the importance of mutual respect\, and provides simple and practical tools that attendees can implement immediately. These tools will help you strike an important balance between being kind and firm in your interactions with children.
URL:https://pdinlandnw.org/classes/introduction-to-positive-discipline-2/
LOCATION:Spokane Valley Library\, 22 North Herald Road\, Spokane Valley\, WA 99206\, Spokane Valley\, WA\, 99206\, US
ATTACH;FMTTYPE=image/jpeg:https://pdinlandnw.org/wp-content/uploads/2024/02/3147_image.jpg
END:VEVENT
BEGIN:VEVENT
DTSTART;TZID=America/Los_Angeles:20240124T183000
DTEND;TZID=America/Los_Angeles:20240124T193000
DTSTAMP:20260423T080537
CREATED:20240114T160522Z
LAST-MODIFIED:20240114T160522Z
UID:3121-1706121000-1706124600@pdinlandnw.org
SUMMARY:Introduction to Positive Discipline
DESCRIPTION:Come and learn tools that you can start using immediately for more cooperative\, respectful and joyful relationships with children.\n\n\nThis class is designed for parents\, teachers\, and caregivers of children aged from toddlers to teens. We use the latest insights from brain science and social emotional learning to address everyday challenges that arise in caring for children. Our approach emphasizes the importance of mutual respect\, and provides simple and practical tools that attendees can implement immediately. These tools will help you strike an important balance between being kind and firm in your interactions with children.
URL:https://pdinlandnw.org/classes/introduction-to-positive-discipline/
LOCATION:Spokane Valley Library\, 22 North Herald Road\, Spokane Valley\, WA 99206\, Spokane Valley\, WA\, 99206\, US
ATTACH;FMTTYPE=image/jpeg:https://pdinlandnw.org/wp-content/uploads/2024/01/3102_image.jpg
END:VEVENT
BEGIN:VEVENT
DTSTART;TZID=America/Los_Angeles:20230424T180000
DTEND;TZID=America/Los_Angeles:20230605T200000
DTSTAMP:20260423T080537
CREATED:20230408T171105Z
LAST-MODIFIED:20230409T011020Z
UID:2770-1682359200-1685995200@pdinlandnw.org
SUMMARY:Parenting with Mental Health in Mind
DESCRIPTION:This\, 6-week series\, parenting with mental health in mind uses brain science & social emotional learning to meet mental health challenges.  Adults leave each class with simple\, mutually respectful parenting tools in this series.  These parenting tools have immediate use to strike an important balance between being both kind & firm at the same time.
URL:https://pdinlandnw.org/classes/parenting-with-mental-health-in-mind-series/
LOCATION:CUP Church\, 1124 Stevens Dr.\, Richland\, WA\, 99354\, United States
CATEGORIES:In Person Event
ATTACH;FMTTYPE=application/pdf:https://pdinlandnw.org/wp-content/uploads/2023/04/Event-Info.pdf
END:VEVENT
BEGIN:VEVENT
DTSTART;TZID=America/Los_Angeles:20230415T093000
DTEND;TZID=America/Los_Angeles:20230415T110000
DTSTAMP:20260423T080537
CREATED:20230406T010010Z
LAST-MODIFIED:20230409T012257Z
UID:2737-1681551000-1681556400@pdinlandnw.org
SUMMARY:Special Event in the Tri Cities
DESCRIPTION:A kid’s inner world has the power to shape everything—their social lives\, academics\, their overall mood\, and mental state. The likelihood that a kid or teenager—or someone they know—may suffer from a mental health challenge one day is higher than you think.\n\n\nBut there’s hope: Research shows one of the best predictors of a kid’s success in life is having at least one consistent\, supportive\, and caring adult in their lives. \nThis introductory event will last approximately 90 minutes. Parenting with mental health in mind is designed to empower and equip parents to meet their kid’s mental health challenges head-on and support them in the way they need most. After this introduction\, tools are provided to continue the discussion by pointing parents to the Parenting with Mental Health in Mind digital course and resources within our community. \nThe Parenting with Mental Health in Mind Event includes basic principles and helpful tips on this important subject to aid parents and caring adults as they navigate a kid and teenager’s mental health with intention and care. \nThis event includes: \n\nLight breakfast pastries\, juice\, and coffee.\nChildcare\nCommunity Guest Speakers\nA 20-minute main session video featuring Dr. Chinwé Williams\, Ph.D.\, a board-certified\, licensed professional counselor and more!\n\n\n\n\n\n\n\n\n\n\n\n 
URL:https://pdinlandnw.org/classes/parenting-with-mental-health-in-mind-tri-cities/
LOCATION:Central United Methodist Church (1124 Stevens Dr\, Richland\, WA)\, 1124 Stevens Dr.\, Richland\, WA\, 99354\, United States
CATEGORIES:In Person Event
END:VEVENT
BEGIN:VEVENT
DTSTART;TZID=America/Los_Angeles:20210602T153000
DTEND;TZID=America/Los_Angeles:20210623T170000
DTSTAMP:20260423T080537
CREATED:20200416T133042Z
LAST-MODIFIED:20210411T212537Z
UID:455-1622647800-1624467600@pdinlandnw.org
SUMMARY:Positive Discipline 3 Week Series for Adults Who Work with Children/Students ages Toddler to Teen!
DESCRIPTION:Are you feeling frustrated and stressed in your parenting and teaching and wish there was an easier\, more effective way? \nWould you like to have fun learning researched based tools to teach your child or student self-discipline\, responsibility\, cooperation and problem-solving skills that are mutually respectful? Join adults just like you for this dynamic\, supportive\, and FREE workshop […] \nRegistration is Required \n  \n\n 
URL:https://pdinlandnw.org/classes/free-positive-discipline-parenting-class-3-week-series-for-adults-who-work-with-children-students-ages-toddler-to-teen/
LOCATION:Virtual Event
CATEGORIES:Positive Discipline 3 Week Classes
ORGANIZER;CN="Kimberly Taylor & Rebekah Hart":MAILTO:rebekah@pdinlandnw.org
END:VEVENT
BEGIN:VEVENT
DTSTART;TZID=America/Los_Angeles:20210526T153000
DTEND;TZID=America/Los_Angeles:20210526T170000
DTSTAMP:20260423T080537
CREATED:20200416T160454Z
LAST-MODIFIED:20210411T210519Z
UID:448-1622043000-1622048400@pdinlandnw.org
SUMMARY:Intro to Positive Discipline for Adults Who Work with Children/Students ages Toddler to Teen!
DESCRIPTION:Are you feeling frustrated and stressed in your parenting and wish there was an easier\, more effective way? \nWould you like to have fun learning researched based tools to teach your child or student self-discipline\, responsibility\, cooperation and problem-solving skills that are mutually respectful? Join adults just like you for this dynamic\, interactive\, and supportive workshop to take home proven strategies through experiential activities.  This workshop allows participants to get into the child’s shoes therefore understanding how to respond in empowering ways that teach children. This 1.5 hour virtual workshop is for adults who work with children/students ages toddler to teen! \nClass details: Virtual Event \nCost: FREE! Registration is Required
URL:https://pdinlandnw.org/classes/intro-to-positive-discipline-for-adults-who-work-with-children-students-ages-toddler-to-teen-2/
LOCATION:Virtual Event
CATEGORIES:Intro to Positive Discipline
ORGANIZER;CN="Kimberly Taylor & Rebekah Hart":MAILTO:Rebekah@PDinlandNW.org
END:VEVENT
BEGIN:VEVENT
DTSTART;TZID=America/Los_Angeles:20210330T183000
DTEND;TZID=America/Los_Angeles:20210330T200000
DTSTAMP:20260423T080537
CREATED:20200416T155041Z
LAST-MODIFIED:20200930T174810Z
UID:443-1617129000-1617134400@pdinlandnw.org
SUMMARY:Reducing Power Struggles for Adults Who Work with Children/Students Ages Toddler to Teen!
DESCRIPTION:“No I won’t and you can’t make me!”  Have you ever heard that from your student/child? \nAre you wanting to avoid power struggles? Join us for this fun\, experiential 1.5 hour workshop that helps us understand what is underneath these power struggles and how to decrease them.  You will take home immediate and effective tools on how to reduce and avoid power struggles.  This workshop is for Adults (Teachers\, Parents\, Childcare Providers\, Youth & Teen Providers) who work with children ages toddler to teen! \nClass Details: Max 20 participants\, first come first served basis \nCost: $20.00 per person\, $30.00 per couple
URL:https://pdinlandnw.org/classes/reducing-power-struggles-for-adults-who-work-with-children-students-ages-toddler-to-teen-4/
LOCATION:Virtual Event\, WA\, United States
CATEGORIES:Reducing Power Struggles
ORGANIZER;CN="Kimberly Taylor & Rebekah Hart":MAILTO:rebekah@pdinlandnw.org
END:VEVENT
BEGIN:VEVENT
DTSTART;TZID=America/Los_Angeles:20210216T180000
DTEND;TZID=America/Los_Angeles:20210216T193000
DTSTAMP:20260423T080537
CREATED:20200416T170922Z
LAST-MODIFIED:20200817T201626Z
UID:462-1613498400-1613503800@pdinlandnw.org
SUMMARY:Positive Discipline 6 Week Series for Adults Who Work with Children/Students ages Toddler to Teen!
DESCRIPTION:Are you tired of threats\, bribes and lectures?  \nOur 6 -week class for parents and educators is based on Dr. Jane Nelsen’s Positive Discipline Book Series.  This is a research-based program that provides a step-by-step approach to effective tools and strategies for educators and parents. This program stands alone or offers significant enhancement to any program. It provides experiential activities that reach the heart to inspire deeper understanding and change. This class is packed with tools you will learn such as: \n\nDiscipline that is kind and firm at the same time (non-punitive\, non-permissive).\nIdentifying the belief behind the behavior rather than just attempting to change behavior.\nLearning effective communication and problem-solving skills.\nFocusing on solutions instead of punishment\nThe difference between Encouragement instead of Praise\n\nEarly Bird Registration $150 per person\, $225 per couple
URL:https://pdinlandnw.org/classes/positive-discipline-6-week-series-for-adults-who-work-with-children-students-ages-toddler-to-teen-4/
LOCATION:Richland\, WA\, United States
CATEGORIES:Positive Discipline 6 Week Series
ORGANIZER;CN="Kimberly Taylor & Rebekah Hart":MAILTO:rebekah@pdinlandnw.org
END:VEVENT
BEGIN:VEVENT
DTSTART;TZID=America/Los_Angeles:20210209T183000
DTEND;TZID=America/Los_Angeles:20210209T200000
DTSTAMP:20260423T080537
CREATED:20210526T103020Z
LAST-MODIFIED:20210411T204734Z
UID:450-1612895400-1612900800@pdinlandnw.org
SUMMARY:Intro to Positive Discipline for Adults Who Work with Children/Students ages Toddler to Teen!
DESCRIPTION:Are you feeling frustrated and stressed in your parenting and wish there was an easier\, more effective way? \nWould you like to have fun learning researched based tools to teach your child or student self-discipline\, responsibility\, cooperation and problem-solving skills that are mutually respectful? Join adults just like you for this dynamic\, interactive\, supportive workshop to take home proven strategies through experiential activities.  This workshop allows participants to get into the child’s shoes therefore understanding how to respond in empowering ways that teach children. This 1.5 hour class for parents and adults who work with children/students ages toddler to teen! \nCost FREE!  Registration Required
URL:https://pdinlandnw.org/classes/intro-to-positive-discipline-for-adults-who-work-with-children-students-ages-toddler-to-teen-3/
LOCATION:Virtual Event\, 1124 Stevens Dr.\, Richland\, WA\, 99354\, United States
CATEGORIES:Intro to Positive Discipline
ORGANIZER;CN="Kimberly Taylor & Rebekah Hart":MAILTO:rebekah@pdinlandnw.org
END:VEVENT
BEGIN:VEVENT
DTSTART;TZID=America/Los_Angeles:20210202T193000
DTEND;TZID=America/Los_Angeles:20210202T210000
DTSTAMP:20260423T080537
CREATED:20200923T225024Z
LAST-MODIFIED:20210202T232140Z
UID:1494-1612294200-1612299600@pdinlandnw.org
SUMMARY:Reducing Power Struggles for Adults Who Work with Children/Students Ages
DESCRIPTION:Take home immediate and effective tools on how to reduce and avoid power struggles.\n\n\n“No I won’t and you can’t make me!”  Have you ever heard that from your student/child? \nAre you wanting to avoid power struggles? Join us for this fun\, experiential 1.5 hour workshop that helps us understand what is underneath these power struggles and how to decrease them.  You will take home immediate and effective tools on how to reduce and avoid power struggles.  This workshop is for Adults (Teachers\, Parents\, Childcare Providers\, Youth & Teen Providers) who work with children ages toddler to teen! \nClass details: Max 20 participants\, first come first served basis \nCost $20.00 per person\, $30.00 per couple
URL:https://pdinlandnw.org/classes/reducing-power-struggles-for-adults-who-work-with-children-students-ages/
LOCATION:Central United Methodist Church (1124 Stevens Dr\, Richland\, WA)\, 1124 Stevens Drive\, Richland\, WA 99354\, Richland\, WA\, 99354\, United States
CATEGORIES:Intro to Positive Discipline,Positive Discipline 6 Week Series,Reducing Power Struggles,Setting Healthy Boundaries,Smoothing Out Those Dreaded Morning Hassles
END:VEVENT
END:VCALENDAR