BEGIN:VCALENDAR
VERSION:2.0
PRODID:-//Positive Discipline Inland Northwest - ECPv6.15.1.1//NONSGML v1.0//EN
CALSCALE:GREGORIAN
METHOD:PUBLISH
X-ORIGINAL-URL:https://pdinlandnw.org
X-WR-CALDESC:Events for Positive Discipline Inland Northwest
REFRESH-INTERVAL;VALUE=DURATION:PT1H
X-Robots-Tag:noindex
X-PUBLISHED-TTL:PT1H
BEGIN:VTIMEZONE
TZID:America/Los_Angeles
BEGIN:DAYLIGHT
TZOFFSETFROM:-0800
TZOFFSETTO:-0700
TZNAME:PDT
DTSTART:20210314T100000
END:DAYLIGHT
BEGIN:STANDARD
TZOFFSETFROM:-0700
TZOFFSETTO:-0800
TZNAME:PST
DTSTART:20211107T090000
END:STANDARD
END:VTIMEZONE
BEGIN:VEVENT
DTSTART;TZID=America/Los_Angeles:20210216T180000
DTEND;TZID=America/Los_Angeles:20210216T193000
DTSTAMP:20260423T120346
CREATED:20200416T170922Z
LAST-MODIFIED:20200817T201626Z
UID:462-1613498400-1613503800@pdinlandnw.org
SUMMARY:Positive Discipline 6 Week Series for Adults Who Work with Children/Students ages Toddler to Teen!
DESCRIPTION:Are you tired of threats\, bribes and lectures?  \nOur 6 -week class for parents and educators is based on Dr. Jane Nelsen’s Positive Discipline Book Series.  This is a research-based program that provides a step-by-step approach to effective tools and strategies for educators and parents. This program stands alone or offers significant enhancement to any program. It provides experiential activities that reach the heart to inspire deeper understanding and change. This class is packed with tools you will learn such as: \n\nDiscipline that is kind and firm at the same time (non-punitive\, non-permissive).\nIdentifying the belief behind the behavior rather than just attempting to change behavior.\nLearning effective communication and problem-solving skills.\nFocusing on solutions instead of punishment\nThe difference between Encouragement instead of Praise\n\nEarly Bird Registration $150 per person\, $225 per couple
URL:https://pdinlandnw.org/classes/positive-discipline-6-week-series-for-adults-who-work-with-children-students-ages-toddler-to-teen-4/
LOCATION:Richland\, WA\, United States
CATEGORIES:Positive Discipline 6 Week Series
ORGANIZER;CN="Kimberly Taylor & Rebekah Hart":MAILTO:rebekah@pdinlandnw.org
END:VEVENT
BEGIN:VEVENT
DTSTART;TZID=America/Los_Angeles:20210202T193000
DTEND;TZID=America/Los_Angeles:20210202T210000
DTSTAMP:20260423T120346
CREATED:20200923T225024Z
LAST-MODIFIED:20210202T232140Z
UID:1494-1612294200-1612299600@pdinlandnw.org
SUMMARY:Reducing Power Struggles for Adults Who Work with Children/Students Ages
DESCRIPTION:Take home immediate and effective tools on how to reduce and avoid power struggles.\n\n\n“No I won’t and you can’t make me!”  Have you ever heard that from your student/child? \nAre you wanting to avoid power struggles? Join us for this fun\, experiential 1.5 hour workshop that helps us understand what is underneath these power struggles and how to decrease them.  You will take home immediate and effective tools on how to reduce and avoid power struggles.  This workshop is for Adults (Teachers\, Parents\, Childcare Providers\, Youth & Teen Providers) who work with children ages toddler to teen! \nClass details: Max 20 participants\, first come first served basis \nCost $20.00 per person\, $30.00 per couple
URL:https://pdinlandnw.org/classes/reducing-power-struggles-for-adults-who-work-with-children-students-ages/
LOCATION:Central United Methodist Church (1124 Stevens Dr\, Richland\, WA)\, 1124 Stevens Drive\, Richland\, WA 99354\, Richland\, WA\, 99354\, United States
CATEGORIES:Intro to Positive Discipline,Positive Discipline 6 Week Series,Reducing Power Struggles,Setting Healthy Boundaries,Smoothing Out Those Dreaded Morning Hassles
END:VEVENT
END:VCALENDAR