BEGIN:VCALENDAR
VERSION:2.0
PRODID:-//Positive Discipline Inland Northwest - ECPv6.15.1.1//NONSGML v1.0//EN
CALSCALE:GREGORIAN
METHOD:PUBLISH
X-ORIGINAL-URL:https://pdinlandnw.org
X-WR-CALDESC:Events for Positive Discipline Inland Northwest
REFRESH-INTERVAL;VALUE=DURATION:PT1H
X-Robots-Tag:noindex
X-PUBLISHED-TTL:PT1H
BEGIN:VTIMEZONE
TZID:America/Los_Angeles
BEGIN:DAYLIGHT
TZOFFSETFROM:-0800
TZOFFSETTO:-0700
TZNAME:PDT
DTSTART:20210314T100000
END:DAYLIGHT
BEGIN:STANDARD
TZOFFSETFROM:-0700
TZOFFSETTO:-0800
TZNAME:PST
DTSTART:20211107T090000
END:STANDARD
END:VTIMEZONE
BEGIN:VEVENT
DTSTART;TZID=America/Los_Angeles:20210602T153000
DTEND;TZID=America/Los_Angeles:20210623T170000
DTSTAMP:20260423T123244
CREATED:20200416T133042Z
LAST-MODIFIED:20210411T212537Z
UID:455-1622647800-1624467600@pdinlandnw.org
SUMMARY:Positive Discipline 3 Week Series for Adults Who Work with Children/Students ages Toddler to Teen!
DESCRIPTION:Are you feeling frustrated and stressed in your parenting and teaching and wish there was an easier\, more effective way? \nWould you like to have fun learning researched based tools to teach your child or student self-discipline\, responsibility\, cooperation and problem-solving skills that are mutually respectful? Join adults just like you for this dynamic\, supportive\, and FREE workshop […] \nRegistration is Required \n  \n\n 
URL:https://pdinlandnw.org/classes/free-positive-discipline-parenting-class-3-week-series-for-adults-who-work-with-children-students-ages-toddler-to-teen/
LOCATION:Virtual Event
CATEGORIES:Positive Discipline 3 Week Classes
ORGANIZER;CN="Kimberly Taylor & Rebekah Hart":MAILTO:rebekah@pdinlandnw.org
END:VEVENT
END:VCALENDAR